BEGIN:VCALENDAR
VERSION:2.0
PRODID:-//Brian&#039;s Healing Hearts - ECPv6.15.20//NONSGML v1.0//EN
CALSCALE:GREGORIAN
METHOD:PUBLISH
X-WR-CALNAME:Brian&#039;s Healing Hearts
X-ORIGINAL-URL:https://brianshealinghearts.org
X-WR-CALDESC:Events for Brian&#039;s Healing Hearts
REFRESH-INTERVAL;VALUE=DURATION:PT1H
X-Robots-Tag:noindex
X-PUBLISHED-TTL:PT1H
BEGIN:VTIMEZONE
TZID:America/New_York
BEGIN:DAYLIGHT
TZOFFSETFROM:-0500
TZOFFSETTO:-0400
TZNAME:EDT
DTSTART:20250309T070000
END:DAYLIGHT
BEGIN:STANDARD
TZOFFSETFROM:-0400
TZOFFSETTO:-0500
TZNAME:EST
DTSTART:20251102T060000
END:STANDARD
BEGIN:DAYLIGHT
TZOFFSETFROM:-0500
TZOFFSETTO:-0400
TZNAME:EDT
DTSTART:20260308T070000
END:DAYLIGHT
BEGIN:STANDARD
TZOFFSETFROM:-0400
TZOFFSETTO:-0500
TZNAME:EST
DTSTART:20261101T060000
END:STANDARD
BEGIN:DAYLIGHT
TZOFFSETFROM:-0500
TZOFFSETTO:-0400
TZNAME:EDT
DTSTART:20270314T070000
END:DAYLIGHT
BEGIN:STANDARD
TZOFFSETFROM:-0400
TZOFFSETTO:-0500
TZNAME:EST
DTSTART:20271107T060000
END:STANDARD
END:VTIMEZONE
BEGIN:VEVENT
DTSTART;TZID=America/New_York:20260423T180000
DTEND;TZID=America/New_York:20260423T200000
DTSTAMP:20260420T055631
CREATED:20260303T194515Z
LAST-MODIFIED:20260415T154350Z
UID:4134-1776967200-1776974400@brianshealinghearts.org
SUMMARY:Tracy Ann Psychic Medium
DESCRIPTION:Tracy Ann Psychic Medium \nThursday 4/23\, 6:00-8:00pm. Maximum of 10 participants. Cost: $40 \nTracy Ann is a local psychic medium who has done a number of private and small group events with The Brian Dagle Foundation community. In March she joins us for an intimate  group event with individual psychic readings. Tracy Ann\, a 4th generation psychic medium\, will share messages from and about your loved one. \nTo register\, contact Chelsea@BriansHealingHearts.org or (860) 451-8354
URL:https://brianshealinghearts.org/event/tracy-ann-psychic-medium-8/
LOCATION:Brian’s Healing Hearts\, 461 Main St\, Niantic\, CT\, United States
CATEGORIES:Special Event,Therapeutic Event
END:VEVENT
END:VCALENDAR