BEGIN:VCALENDAR
VERSION:2.0
PRODID:-//Brian&#039;s Healing Hearts - ECPv6.15.20//NONSGML v1.0//EN
CALSCALE:GREGORIAN
METHOD:PUBLISH
X-WR-CALNAME:Brian&#039;s Healing Hearts
X-ORIGINAL-URL:https://brianshealinghearts.org
X-WR-CALDESC:Events for Brian&#039;s Healing Hearts
REFRESH-INTERVAL;VALUE=DURATION:PT1H
X-Robots-Tag:noindex
X-PUBLISHED-TTL:PT1H
BEGIN:VTIMEZONE
TZID:America/New_York
BEGIN:DAYLIGHT
TZOFFSETFROM:-0500
TZOFFSETTO:-0400
TZNAME:EDT
DTSTART:20240310T070000
END:DAYLIGHT
BEGIN:STANDARD
TZOFFSETFROM:-0400
TZOFFSETTO:-0500
TZNAME:EST
DTSTART:20241103T060000
END:STANDARD
BEGIN:DAYLIGHT
TZOFFSETFROM:-0500
TZOFFSETTO:-0400
TZNAME:EDT
DTSTART:20250309T070000
END:DAYLIGHT
BEGIN:STANDARD
TZOFFSETFROM:-0400
TZOFFSETTO:-0500
TZNAME:EST
DTSTART:20251102T060000
END:STANDARD
BEGIN:DAYLIGHT
TZOFFSETFROM:-0500
TZOFFSETTO:-0400
TZNAME:EDT
DTSTART:20260308T070000
END:DAYLIGHT
BEGIN:STANDARD
TZOFFSETFROM:-0400
TZOFFSETTO:-0500
TZNAME:EST
DTSTART:20261101T060000
END:STANDARD
END:VTIMEZONE
BEGIN:VEVENT
DTSTART;TZID=America/New_York:20250113T170000
DTEND;TZID=America/New_York:20250113T183000
DTSTAMP:20260423T063459
CREATED:20250110T161154Z
LAST-MODIFIED:20260401T153706Z
UID:2981-1736787600-1736793000@brianshealinghearts.org
SUMMARY:Understanding the 6 Needs of Mourning
DESCRIPTION:Understanding the Six Needs of Mourning with Ann Dagle \nMondays 5:00-6:30pm (1/13\, 1/20\, 1/27\, 2/3) \nAs you begin to navigate your grief journey\, meet with others on the path to talk about what you may encounter while mourning\, during groups\, and as part of our community.  \nFor info and registration\, contact (860) 451-8354 or Chelsea@BriansHealingHearts.org
URL:https://brianshealinghearts.org/event/understanding-the-6-needs-of-mourning/
LOCATION:CT
CATEGORIES:Educational Event,Special Event
END:VEVENT
BEGIN:VEVENT
DTSTART;TZID=America/New_York:20250120T170000
DTEND;TZID=America/New_York:20250120T183000
DTSTAMP:20260423T063459
CREATED:20250110T161154Z
LAST-MODIFIED:20260401T153706Z
UID:2982-1737392400-1737397800@brianshealinghearts.org
SUMMARY:Understanding the 6 Needs of Mourning
DESCRIPTION:Understanding the Six Needs of Mourning with Ann Dagle \nMondays 5:00-6:30pm (1/13\, 1/20\, 1/27\, 2/3) \nAs you begin to navigate your grief journey\, meet with others on the path to talk about what you may encounter while mourning\, during groups\, and as part of our community.  \nFor info and registration\, contact (860) 451-8354 or Chelsea@BriansHealingHearts.org
URL:https://brianshealinghearts.org/event/understanding-the-6-needs-of-mourning-2/
LOCATION:CT
CATEGORIES:Educational Event,Special Event
END:VEVENT
BEGIN:VEVENT
DTSTART;TZID=America/New_York:20250127T170000
DTEND;TZID=America/New_York:20250127T183000
DTSTAMP:20260423T063459
CREATED:20250110T161154Z
LAST-MODIFIED:20260401T153706Z
UID:2983-1737997200-1738002600@brianshealinghearts.org
SUMMARY:Understanding the 6 Needs of Mourning
DESCRIPTION:Understanding the Six Needs of Mourning with Ann Dagle \nMondays 5:00-6:30pm (1/13\, 1/20\, 1/27\, 2/3) \nAs you begin to navigate your grief journey\, meet with others on the path to talk about what you may encounter while mourning\, during groups\, and as part of our community.  \nFor info and registration\, contact (860) 451-8354 or Chelsea@BriansHealingHearts.org
URL:https://brianshealinghearts.org/event/understanding-the-6-needs-of-mourning-3/
LOCATION:CT
CATEGORIES:Educational Event,Special Event
END:VEVENT
END:VCALENDAR