BEGIN:VCALENDAR
VERSION:2.0
PRODID:-//Brian&#039;s Healing Hearts - ECPv6.15.20//NONSGML v1.0//EN
CALSCALE:GREGORIAN
METHOD:PUBLISH
X-ORIGINAL-URL:https://brianshealinghearts.org
X-WR-CALDESC:Events for Brian&#039;s Healing Hearts
REFRESH-INTERVAL;VALUE=DURATION:PT1H
X-Robots-Tag:noindex
X-PUBLISHED-TTL:PT1H
BEGIN:VTIMEZONE
TZID:America/New_York
BEGIN:DAYLIGHT
TZOFFSETFROM:-0500
TZOFFSETTO:-0400
TZNAME:EDT
DTSTART:20250309T070000
END:DAYLIGHT
BEGIN:STANDARD
TZOFFSETFROM:-0400
TZOFFSETTO:-0500
TZNAME:EST
DTSTART:20251102T060000
END:STANDARD
BEGIN:DAYLIGHT
TZOFFSETFROM:-0500
TZOFFSETTO:-0400
TZNAME:EDT
DTSTART:20260308T070000
END:DAYLIGHT
BEGIN:STANDARD
TZOFFSETFROM:-0400
TZOFFSETTO:-0500
TZNAME:EST
DTSTART:20261101T060000
END:STANDARD
BEGIN:DAYLIGHT
TZOFFSETFROM:-0500
TZOFFSETTO:-0400
TZNAME:EDT
DTSTART:20270314T070000
END:DAYLIGHT
BEGIN:STANDARD
TZOFFSETFROM:-0400
TZOFFSETTO:-0500
TZNAME:EST
DTSTART:20271107T060000
END:STANDARD
END:VTIMEZONE
BEGIN:VEVENT
DTSTART;TZID=America/New_York:20260604T160000
DTEND;TZID=America/New_York:20260604T173000
DTSTAMP:20260420T072758
CREATED:20260331T202946Z
LAST-MODIFIED:20260415T154351Z
UID:4205-1780588800-1780594200@brianshealinghearts.org
SUMMARY:Thursday Walking Group
DESCRIPTION:Thursday Walking Group1st Thursday of the month4:00-5:30pmGroup will meet at Brian’s Healing Hearts (weather permitting) and will walk for 45 min or so. \nFor info\, contact Chelsea@BriansHealingHearts.org or (860) 451-8354
URL:https://brianshealinghearts.org/event/thursday-walking-group-4/
LOCATION:CT
CATEGORIES:Social Event,Special Event
END:VEVENT
BEGIN:VEVENT
DTSTART;TZID=America/New_York:20260615T100000
DTEND;TZID=America/New_York:20260615T113000
DTSTAMP:20260420T072758
CREATED:20260331T202946Z
LAST-MODIFIED:20260415T154351Z
UID:4206-1781517600-1781523000@brianshealinghearts.org
SUMMARY:Monday Walking Group
DESCRIPTION:Monday Walking Group3rd Monday of the month10:00-11:30amGroup will meet at Brian’s Healing Hearts (weather permitting) and will walk for 45 min or so. \nFor info\, contact Chelsea@BriansHealingHearts.org or (860) 451-8354
URL:https://brianshealinghearts.org/event/monday-walking-group-4/
LOCATION:CT
CATEGORIES:Social Event,Special Event
END:VEVENT
END:VCALENDAR